BEGIN:VCALENDAR
VERSION:2.0
PRODID:-//FUP - ECPv6.0.0.1//NONSGML v1.0//EN
CALSCALE:GREGORIAN
METHOD:PUBLISH
X-ORIGINAL-URL:https://urbanistes.be/fup
X-WR-CALDESC:évènements pour FUP
REFRESH-INTERVAL;VALUE=DURATION:PT1H
X-Robots-Tag:noindex
X-PUBLISHED-TTL:PT1H
BEGIN:VTIMEZONE
TZID:Europe/Paris
BEGIN:DAYLIGHT
TZOFFSETFROM:+0100
TZOFFSETTO:+0200
TZNAME:CEST
DTSTART:20210328T010000
END:DAYLIGHT
BEGIN:STANDARD
TZOFFSETFROM:+0200
TZOFFSETTO:+0100
TZNAME:CET
DTSTART:20211031T010000
END:STANDARD
END:VTIMEZONE
BEGIN:VEVENT
DTSTART;VALUE=DATE:20211027
DTEND;VALUE=DATE:20211028
DTSTAMP:20260421T101922
CREATED:20210911T154902Z
LAST-MODIFIED:20210916T055730Z
UID:1546-1635292800-1635379199@urbanistes.be
SUMMARY:Forum 2021: Close to you :   Depuis quelques années\, nous commencions à vivre selon d’autres paradigmes...
DESCRIPTION:Namur\, le mercredi 27.10.2021 dès 9h – à l’Ancienne Bourse \nGrands témoins  \nIsabelle Baraud-Servaty.9h05-9h35 \nFondatrice de l’agence Ibicity\, enseignante à Sciences-Po Paris. Elle centrera son intervention sur : \nLa pandémie : une voie vers la ville résiliente ?  \nDaniele Ietri. 11h-11H30 \nUniversity of Bolzano. Author of « Smaller Cities in a World of Competitiveness ». Much recent research in Urban Studies has concentrated on the notion of the ‘global city’; but discussion is now open for smaller cities in this pandemic context. \nCovid\, what ‘else for big and smaller cities?
URL:https://urbanistes.be/fup/event/forum-2021-close-to-you/
LOCATION:Bourse de Namur\, Place d’Armes 1\, Namur\, 5000\, Belgique
CATEGORIES:Forum
ATTACH;FMTTYPE=image/jpeg:https://urbanistes.be/fup/wp-content/uploads/2021/09/241691707_4224129641015812_2055262859709523163_n.jpg
ORGANIZER;CN="For%20Urban%20Passion":MAILTO:fup@urbanistes.be
END:VEVENT
END:VCALENDAR