BEGIN:VCALENDAR
VERSION:2.0
PRODID:-//FUP - ECPv6.0.0.1//NONSGML v1.0//EN
CALSCALE:GREGORIAN
METHOD:PUBLISH
X-ORIGINAL-URL:https://urbanistes.be/fup
X-WR-CALDESC:évènements pour FUP
REFRESH-INTERVAL;VALUE=DURATION:PT1H
X-Robots-Tag:noindex
X-PUBLISHED-TTL:PT1H
BEGIN:VTIMEZONE
TZID:Europe/Paris
BEGIN:DAYLIGHT
TZOFFSETFROM:+0100
TZOFFSETTO:+0200
TZNAME:CEST
DTSTART:20210328T010000
END:DAYLIGHT
BEGIN:STANDARD
TZOFFSETFROM:+0200
TZOFFSETTO:+0100
TZNAME:CET
DTSTART:20211031T010000
END:STANDARD
END:VTIMEZONE
BEGIN:VEVENT
DTSTART;TZID=Europe/Paris:20211020T190000
DTEND;TZID=Europe/Paris:20211020T223000
DTSTAMP:20260421T100943
CREATED:20210911T161350Z
LAST-MODIFIED:20210916T055934Z
UID:1558-1634756400-1634769000@urbanistes.be
SUMMARY:Grande Conférence 2021 : Michel Lussault. Spécialisé en géographie urbaine\, Directeur de l’Ecole d’urbanisme de Lyon.
DESCRIPTION:Michel Lussault. Spécialisé en géographie urbaine\, Directeur de l’Ecole d’urbanisme de Lyon\, il est l’auteur de nombreux livres dont « Hyper-lieux\, les nouvelles géographies de la mondialisation »\, « Chroniques de géo’ virale ». Il parlera de   L’urbanisme de l’attention et du prendre soin.
URL:https://urbanistes.be/fup/event/grande-conference-2021/
LOCATION:CIVA\, Rue de l’Ermitage 55\, Bruxelles\, 1050\, Belgique
CATEGORIES:Forum
ATTACH;FMTTYPE=image/jpeg:https://urbanistes.be/fup/wp-content/uploads/2021/09/241691707_4224129641015812_2055262859709523163_n.jpg
ORGANIZER;CN="For%20Urban%20Passion":MAILTO:fup@urbanistes.be
END:VEVENT
END:VCALENDAR